Workbook

Sheet 1. Asseg, e Monit. Ob.
B1: Scheda per l’assegnazione al/alla dirigente e i relativi monitoraggi degli obiettivi organizzativi di struttura e trasversali (il cui conseguimento/coordinamento è attribuito al/alla dirigente medesimo) ed eventuali obiettivi individuali ulteriori
B2: RESPONSABILE: DIRIGENTE dell'AREA ORGANIZZAZIONE e SVILUPPO
A3: ob. N. | B3: finalità | C3: Obiettivo | D3: Peso | E3: Indicatore | F3: Target 2024 | G3: I Monitoraggio Indicare i risultati intermedi/stato di avanzamento al 30 giugno | H3: Scostamento | I3: II Monitoraggio Indicare i risultati intermedi/stato di avanzamento al 31 ottobre | J3: Scostamento
A4: ='2. SCHEDA VAL. FIN. OB.'!A9 -> 2 | B4: ='2. SCHEDA VAL. FIN. OB.'!B9 -> Strategico - PSA- TRAIETTORIA Semplificazione e Università Agile | C4: ='2. SCHEDA VAL. FIN. OB.'!C9 -> Rafforzamento del livello di tutela dei dati personali. Aggiornamento del Registro dei trattamenti di Ateneo ad opera dei Referenti del trattamento come individuati dall’art. 7 del Regolamento di Ateneo in materia di trattamento dei Dati Personali, emanato con D.R. 2088/2019: A) Implementazione delle unità di personale delegate all’utilizzo della piattaforma Data Protection Manager (DPM) B) illustrazione da parte della società e dal CSI del funzionamento della piattaforma DPM C) definizione istruzioni operative D) analisi dei dati presenti nel Registro del trattamento dei dati E) validazione del Registro del trattamento dei dati | D4: ='2. SCHEDA VAL. FIN. OB.'!D9 -> 0.1 | E4: ='2. SCHEDA VAL. FIN. OB.'!E9 -> A) invio alla società che gestisce la piattaforma DPM dei nominativi di tutti i Referenti di Ateneo da abilitare sulla stessa nonché di eventuale ulteriore personale delegato alla gestione operativa del software da parte del singolo Referente; B) programmazione di una o più giornate di presentazione C) entro 30 giorni dalla giornata/e formativa/e definizione/aggiornamento di istruzioni operative (per A), B), C), Dirigente dell'Area Legale, n.q. di RpD) D) % dei dati presenti sulla piattaforma DPM per i quali si procede all'analisi/integrazione/modifica da parte dei vari Referenti di Ateneo rispetto alla propria Struttura, con il supporto dell’eventuale personale delegato alla gestione operativa del software E) validazione del Registro del trattamento dei dati da parte del Referente della rispettiva struttura di Ateneo: SI/NO (per D), E): Tutti i Dirigenti, ciascuno per la parte di competenza dell'Area) cfr. anche obiettivo 2_2024 riportato nella tabella 2.2.3 | F4: ='2. SCHEDA VAL. FIN. OB.'!F9 -> A) si, entro il 15/3/2024 B) entro 15 giorni dalla conoscenza dei delegati determinazione del calendario della o delle giornate di presentazione C) 100% entro 30 giorni dalla giornata/e formativa/e D) 100% entro il 18.11.2024 E) SI, entro il 16.12.2024
A5: ='2. SCHEDA VAL. FIN. OB.'!A10 -> 3 | B5: ='2. SCHEDA VAL. FIN. OB.'!B10 -> Parità di Genere - GEP – Azione n. 6 | C5: ='2. SCHEDA VAL. FIN. OB.'!C10 -> Revisione del linguaggio di genere nella comunicazione istituzionale/amministrativa Adozione in Ateneo di un linguaggio inclusivo e rispettoso del genere Revisione della Modulistica amministrativa in ottica di genere | D5: ='2. SCHEDA VAL. FIN. OB.'!D10 -> 0.01 | E5: ='2. SCHEDA VAL. FIN. OB.'!E10 -> A) % di moduli revisionati rispetto ai moduli amministrativi già pubblicati sul sito web di Ateneo, nella sezione Modulistica B) % di moduli 'neutri nel genere' rispetto al totale dei nuovi moduli pubblicati nel 2024 (N.B. qualora nel 2024 non vi siano moduli da revisionare né moduli nuovi, al presente obiettivo è assegnato un peso pari a zero) | F5: ='2. SCHEDA VAL. FIN. OB.'!F10 -> a) 90% dei moduli già pubblicati (prima del 2024) B) 100% dei nuovi moduli pubblicati nel 2024
A6: ='2. SCHEDA VAL. FIN. OB.'!A11 -> 4 | B6: ='2. SCHEDA VAL. FIN. OB.'!B11 -> Strategico - PSA- TRAIETTORIA Semplificazione e Università Agile Parità di Genere - GEP - Azione 1A - Lavoro Agile | C6: ='2. SCHEDA VAL. FIN. OB.'!C11 -> Formazione rivolta al personale dirigenziale e personale tecnico-amministrativo per lo sviluppo individuale e professionale Rafforzamento delle conoscenze e delle competenze | D6: ='2. SCHEDA VAL. FIN. OB.'!D11 -> 0.15 | E6: ='2. SCHEDA VAL. FIN. OB.'!E11 -> A) n. ore di formazione/anno fruite da ciascun/a dirigente B) % unità di personale t.a. per i quali viene definito il piano formativo personalizzato (almeno 24 ore/formazione) | F6: ='2. SCHEDA VAL. FIN. OB.'!F11 -> A) almeno 24 ore/anno, secondo i piani formativi individuali definiti per ciascun/a dirigente (cfr. appendice 3.4, parte I) NB - Tutte le informazioni sono pubblicate sul sito web di Ateneo, nell' area riservata di ciascuna unità di personale dirigenziale, nella sezione FORMAZIONE DIRIGENTI E PERSONALE T.A. B) 100% unità p.t.a. in servizio presso ciascun'Area e gli Uffici ad essa afferenti, con trasmissione dei relativi piani all'Ufficio Formazione
A7: ='2. SCHEDA VAL. FIN. OB.'!A12 -> 7 | B7: ='2. SCHEDA VAL. FIN. OB.'!B12 -> Etica e Trasparenza | C7: ='2. SCHEDA VAL. FIN. OB.'!C12 -> Rafforzamento e difesa dei valori etici e dell’integrità nella comunità accademica. Attuazione, per la parte di competenza, delle seguenti azioni, come precisato nella tabella 2.2.2 AT - ob Dir allegata al PIAO : A. formazione obbligatoria in materia di etica, prevenzione della corruzione, trasparenza e privacy (sub-peso 10%) B. attuazione delle misure per la prevenzione della corruzione programmate nell'appendice 2.3.E al PIAO (sub-peso 25%) C. attuazione degli obblighi di pubblicazione riepilogati nell'appendice 2.3.C al PIAO (sub-peso 25%) D. monitoraggio dello stato di attuazione delle misure di trasparenza e prevenzione della corruzione (sub-peso 20%) E. contributo all’aggiornamento del registro dei rischi (ed eventualmente del livello di rischio) e delle misure, anche all’esito delle risultanze dei monitoraggi e delle verifiche (sub-peso 20%) | D7: ='2. SCHEDA VAL. FIN. OB.'!D12 -> 0.15 | E7: ='2. SCHEDA VAL. FIN. OB.'!E12 -> A. percentuale di ore fruite rispetto al n. minimo di 8 ore di formazione obbligatoria (v. dettagli in calce al presente foglio, nella nota ob7.A). B. Percentuale di attuazione - per la parte di competenza della propria Area e degli Uffici di afferenza - delle misure per la prevenzione della corruzione programmate nell'appendice 2.3.E al PIAO (v. dettagli in calce al presente foglio, nella nota ob7.B). C. Percentuale di attuazione - per la parte di competenza della propria Area e degli Uffici di afferenza- degli obblighi di pubblicazione riepilogati nell'appendice 2.3.C al PIAO (v. dettagli in calce al presente foglio, nella nota ob7.C). D. rispetto dei termini di invio del I monitoraggio e del II monitoraggio dello stato di attuazione delle misure di trasparenza e prevenzione della corruzione (v. dettagli in calce al presente foglio, nella nota ob7.D). E. invio del contributo entro il 29.11.2024, per la parte di competenza (v. dettagli in calce al presente foglio, nella nota ob7.E). | F7: ='2. SCHEDA VAL. FIN. OB.'!F12 -> 100%
A8: ='2. SCHEDA VAL. FIN. OB.'!A13 -> 8 | B8: ='2. SCHEDA VAL. FIN. OB.'!B13 -> Etica e Trasparenza | C8: ='2. SCHEDA VAL. FIN. OB.'!C13 -> Rafforzamento e difesa dei valori etici e dell’integrità nella comunità accademica. Attuazione delle azioni di Ateneo finalizzate a conseguire le direttrici strategiche per l’etica e la trasparenza | D8: ='2. SCHEDA VAL. FIN. OB.'!D13 -> 0.24 | E8: ='2. SCHEDA VAL. FIN. OB.'!E13 -> Percentuale di attuazione di tutte le azioni programmate nell'appendice 2.3.A al PIAO | F8: ='2. SCHEDA VAL. FIN. OB.'!F13 -> 1
A9: ='2. SCHEDA VAL. FIN. OB.'!A14 -> 11 | B9: ='2. SCHEDA VAL. FIN. OB.'!B14 -> Strategico - PSA- TRAIETTORIA Semplificazione e Università Agile | C9: ='2. SCHEDA VAL. FIN. OB.'!C14 -> Analisi delle criticità risultanti dagli esiti delle indagini di ascolto dell'utenza e conseguente progettazione e avvio di azioni di miglioramento. N.B. I risultati delle indagini di ascolto dell'utenza, completi dei suggerimenti/commenti eventualmente segnati dagli intervistati (in apposito campo libero del form), sono trasmessi ai/alle Dirigenti delle Aree ed ai Responsabili delle Strutture decentrate periodicamente (almeno due volte entro il 31/7/2024), per consentire la relativa analisi e la definizione, qualora emergano criticità, di azioni di miglioramento organizzativo. In ogni caso, i/le dirigenti possono consultare via via i report sintetici delle indagini direttamente, mediante appositi link - già comunicati dall'Ufficio Organizzazione e Performance - relativi ai singoli servizi | D9: ='2. SCHEDA VAL. FIN. OB.'!D14 -> 0.08 | E9: ='2. SCHEDA VAL. FIN. OB.'!E14 -> Stato di avanzamento (N.B. qualora nel 2024 sia assegnato un peso pari a zero al precedente obiettivo n.3, al presente obiettivo è assegnato un peso pari al 9% ) | F9: ='2. SCHEDA VAL. FIN. OB.'!F14 -> A) relazione al DG , da inviare via PEC all'indirizzo uff.organizzazione@pec.unina.it entro il 31/10/2024, con indicazione: - delle criticità rilevate e dell'analisi effettuata; - delle azioni di miglioramento progettate ed avviate; - delle ulteriori azioni di miglioramento proposte; (tutte/i le/i Dirigenti delle Aree) B) definizione da parte del DG delle azioni di miglioramento da realizzare con priorità, con conseguente definizione anche di obiettivi sfidanti da assegnare ai dirigenti (DG)
A10: ='2. SCHEDA VAL. FIN. OB.'!A15 -> 12 | B10: ='2. SCHEDA VAL. FIN. OB.'!B15 -> Strategico - PSA- TRAIETTORIA Semplificazione e Università Agile | C10: ='2. SCHEDA VAL. FIN. OB.'!C15 -> Revisione corpus regolamentare Aggiornamento/revisione dei Regolamenti di Ateneo | D10: ='2. SCHEDA VAL. FIN. OB.'!D15 -> 0.1 | E10: ='2. SCHEDA VAL. FIN. OB.'!E15 -> a) individuazione dei Regolamenti di competenza di ciascuna Area che necessitano di revisione/aggiornamento prioritariamente b) percentuale di Regolamenti revisionati/aggiornati, rispetto a quelli indicati per ciascun'Area dal DG a seguito della verifica di massima | F10: ='2. SCHEDA VAL. FIN. OB.'!F15 -> A) SI, con invio al DG entro il 31.5.2024 di un elenco in ordine di priorità; B) 100%, con invio al DG del testo proposto entro il 31.12.2024
A11: ='2. SCHEDA VAL. FIN. OB.'!A16 -> 13 | B11: ='2. SCHEDA VAL. FIN. OB.'!B16 -> Strategico - PSA- TRAIETTORIA Semplificazione e Università Agile | C11: ='2. SCHEDA VAL. FIN. OB.'!C16 -> Valutazione della Performance del personale Progettazione, sperimentazione e messa in esercizio di nuovi metodi di valutazione | D11: ='2. SCHEDA VAL. FIN. OB.'!D16 -> 0.15 | E11: ='2. SCHEDA VAL. FIN. OB.'!E16 -> stato di avanzamento | F11: ='2. SCHEDA VAL. FIN. OB.'!F16 -> Invio entro il 31.10.2024 al DG di una proposta di metodi di valutazione 360 gradi e di possibili meccanismi di calibrazione
A12: ='2. SCHEDA VAL. FIN. OB.'!A17 -> 16 | B12: ='2. SCHEDA VAL. FIN. OB.'!B17 -> Strategico - PSA- TRAIETTORIA Semplificazione e Università Agile | C12: ='2. SCHEDA VAL. FIN. OB.'!C17 -> Monitoraggio e rispetto dei tempi di pagamento (art. 4 bis, d.l. 13/2023, conv. con l. 41/23) Ottemperanza alle istruzioni operative di Ateneo in materia | D12: ='2. SCHEDA VAL. FIN. OB.'!D17 -> 0.02 | E12: ='2. SCHEDA VAL. FIN. OB.'!E17 -> % fatture per le quali sono rispettati - per la parte di competenza dell'Area e degli Uffici di afferenza - termini e modalità indicati dalla legge e precisati nella nota PG/2023/0154469 del 11/12/2023 e nelle ulteriori istruzioni operative di Ateneo del 2024 diramate con PG/2024/0019079, rispetto al totale delle fatture pervenute all'Area che, a valle del processo di liquidazione, non sono pagate nel termine di 30 giorni | F12: ='2. SCHEDA VAL. FIN. OB.'!F17 -> 100% Ai fini della verifica del conseguimento del target: v. dettagli in calce al presente foglio, nella nota ob16.
B14: nota ob7.A: L'indicatore dell'obiettivo n. 7 lettera A è la percentuale (%) di ore fruite rispetto al n. minimo di 8 ore di formazione obbligatoria: - Corso in modalità e-learning: CODICE DI COMPORTAMENTO ED ETICA PUBBLICA: UNA MIGLIORE ORGANIZZAZIONE (4 ore), da completare entro il 31.7.2024; - ulteriori corsi in materia (almeno 4 ore), da completare entro il 31.10.2024: l'Ufficio formazione (U.F.O.) e la RPCT curano l’organizzazione di corsi in materia di etica, prevenzione della corruzione, trasparenza e privacy, nonché l’iscrizione, previa autorizzazione del DG, ad ulteriori corsi in materia proposti dal singolo dirigente nelle specifiche aree di rischio. N.B. Il DG è autorizzato a concedere con apposita nota, su proposta della RPCT di Ateneo, una proroga dei suindicati termini del 31.7.2024 e del 31.10.2024 per l'ultimazione delle ore formazione obbligatoria in materia di etica, prevenzione della corruzione, trasparenza e privacy. Ai fini del raggiungimento del n. di ore si tiene conto anche della eventuale partecipazione del dirigente ai focus group organizzati dall’Ufficio Etica e Trasparenza.
B15: nota ob7.B: L'indicatore dell'obiettivo n. 7 lettera B è la percentuale (%) di attuazione - per la parte di competenza della propria Area e degli Uffici di afferenza - delle misure per la prevenzione della corruzione programmate nell'appendice 2.3.E al PIAO. N.B. nella pagina web ‘dedicata’ all'Area Organizzazione e Sviluppo (raggiungibile dal link http://www.unina.it/trasparenza/at/area-organizzazione-sviluppo) è messo a disposizione - a cura dell’Ufficio Etica e trasparenza (UET) - il File excel allegato al PIAO riepilogativo delle misure di prevenzione della corruzione di competenza dell'Area e degli Uffici ad essa afferenti.
B16: nota ob7.C: L'indicatore dell'obiettivo n. 7 lettera C è la percentuale (%) di attuazione - per la parte di competenza della propria Area e degli Uffici di afferenza- degli obblighi di pubblicazione riepilogati nell'appendice 2.3.C al PIAO. N.B. nella citata pagina web ‘dedicata’ all'Area è messo a disposizione - a cura dell’Ufficio Etica e trasparenza (UET) - un estratto in formato excel degli obblighi di pubblicazione di competenza dell'Area e degli Uffici ad essa afferenti.
B17: nota ob7.D: L'indicatore dell'obiettivo n. 7 lettera D è il rispetto dei termini di invio del I monitoraggio (report al 30 giugno, da inviare entro il 31.7.2024 all’indirizzo PEC uff.etica-trasparenza@pec.unina.it) e del II monitoraggio (report al 31 ottobre, da inviare entro il 22.11.2024 all’indirizzo uff.etica-trasparenza@pec.unina.it) dello stato di attuazione delle misure di trasparenza e prevenzione della corruzione. Al pieno rispetto di tali termini corrisponde una percentuale di attuazione del 100%, ridotta proporzionalmente in caso di ritardo (si tiene conto a tal fine della media dei gg di trasmissione oltre il termine del I e II monitoraggio); la percentuale di attuazione è pari a 0 in caso di invio con un ritardo medio superiore a 15 giorni. Si ricorda che il II monitoraggio dello stato di attuazione delle misure di trasparenza e prevenzione della corruzione (da trasmettere entro venerdì 22 novembre 2024) è finalizzato anche alla tempestiva redazione della relazione RPCT per ANAC (entro 15.12.2024), per cui in caso di mancato invio nei termini la RPCT deve darne conto anche in/ tale relazione. N.B. nella citata pagina web ‘dedicata’ all'Area sono messi a disposizione - a cura dell’Ufficio Etica e trasparenza (UET) - un facsimile personalizzato da utilizzare per i report di monitoraggio dello stato di attuazione delle misure di prevenzione della corruzione e un facsimile personalizzato da utilizzare per i report di monitoraggio dello stato di attuazione degli obblighi di pubblicazione. In sede di invio del fascicolo di valutazione il/la dirigente dovrà citare le date di invio del I e II monitoraggio, nonché indicare le ulteriori attività poste in essere nei mesi di novembre e dicembre 2024 per completare l’attuazione delle misure anticorruzione e trasparenza; pertanto, relativamente ai mesi di novembre e dicembre 2024, al fine di consentire la valutazione della performance 2024 da parte del DG (previa istruttoria dell’UET e della RPCT) dovrà essere inviato entro il 15.3.2025 all’indirizzo pec uff.etica-trasparenza@pec.unina.it un ulteriore report (III monitoraggio, relativo al periodo 1.11.2024- 31.12.2024).
B18: nota ob7.E: L'indicatore dell'obiettivo n. 7 lettera E è la percentuale di invio del contributo entro il 29.11.2024, per la parte di competenza. Al pieno rispetto di tale termine corrisponde una percentuale di attuazione del 100%, ridotta proporzionalmente in caso di ritardo (si tiene conto a tal fine dei gg di trasmissione oltre il termine); la percentuale di attuazione è pari a 0 in caso di invio con un ritardo superiore a 60 giorni. Si ricorda che il contributo è finalizzato all’aggiornamento della sezione e delle appendici/allegati del PIAO relativi all'etica ed alla trasparenza. Ulteriori indicazioni in materia saranno riportate in apposita circolare, inviata a mezzo protocollo e - a cura dell’Ufficio Etica e trasparenza (UET) - resa disponibile, unitamente al facsimile excel personalizzato da utilizzare, nella citata pagina web ‘dedicata’ all'Area.
B19: nota ob16: Ai fini della verifica del conseguimento del target: - l’ufficio di Supporto alla Gestione Economico Finanziaria invierà entro il 15.2.2025 a ciascun Dirigente (alla pec personale e dell'Area), nonché al DG (all'indirizzo uff.performance@pec.unina.it) l' elenco delle eventuali fatture elettroniche scadute nell'anno 2024 (ossia quelle per le quali siano decorsi 30 giorni dalla ricezione tramite SDI) e non pagate nel termine di 30 gg, utilizzando la stampa della procedura di contabilità U-Gov; - il dirigente dovrà allegare al fascicolo di valutazione n. 1 Report contenente per tutte le predette fatture (scadute nell'anno 2024 e non pagate) di competenza dell'Area: il codice identificativo SDI, la relativa data di ricezione in SDI, la data di accettazione o rifiuto della fattura (con l'indicazione dell'eventuale accettazione intervenuta per decorrenza termini), la data di trasmissione agli uffici contabili degli atti di liquidazione completi di tutta la documentazione richiesta con nota PG/2024/0019079 del 14/02/2024, le eventuali segnalazioni effettuate in attauzione della citata nota PG/2024/0019079 (indicando gli estremi delle relative PEC/note).

Sheet 2. SCHEDA VAL. FIN. OB.
B1: SCHEDA PER LA MISURAZIONE E VALUTAZIONE DEGLI OBIETTIVI ASSEGNATI AL/ALLA DIRIGENTE (obiettivi organizzativi di struttura assegnati al conseguimento o coordinamento del/la dirigente, obiettivi organizzativi trasversali assegnati al coordinamento del/la dirigente, eventuali ulteriori obiettivi operativi individuali assegnati)
B2: PESO: 40 %*** DELLA RETRIBUZIONE DI RISULTATO COMPLESSIVA
B4: Data: Anno 2024
B5: Soggetto valutatore: Direttore Generale
B6: Nome dirigente valutato: Dott.ssa Carla Camerlingo
A8: ob. N. | B8: Finalità | C8: Obiettivo/Azioni | D8: Peso | E8: Indicatore | F8: Target 2024 | G8: Descrizione dei risultati raggiunti al 31 dicembre | H8: Risultato Raggiunto (in %) | I8: Punteggio Autovalutazione* (in %) | K8: Punteggio Valutazione (in %) | L8: Punteggio valutato rispetto al peso dell'obiettivo | M8: Motivazioni del soggetto valutatore **
A9: 2 | B9: Strategico - PSA- TRAIETTORIA Semplificazione e Università Agile | C9: Rafforzamento del livello di tutela dei dati personali. Aggiornamento del Registro dei trattamenti di Ateneo ad opera dei Referenti del trattamento come individuati dall’art. 7 del Regolamento di Ateneo in materia di trattamento dei Dati Personali, emanato con D.R. 2088/2019: A) Implementazione delle unità di personale delegate all’utilizzo della piattaforma Data Protection Manager (DPM) B) illustrazione da parte della società e dal CSI del funzionamento della piattaforma DPM C) definizione istruzioni operative D) analisi dei dati presenti nel Registro del trattamento dei dati E) validazione del Registro del trattamento dei dati | D9: 0.1 | E9: A) invio alla società che gestisce la piattaforma DPM dei nominativi di tutti i Referenti di Ateneo da abilitare sulla stessa nonché di eventuale ulteriore personale delegato alla gestione operativa del software da parte del singolo Referente; B) programmazione di una o più giornate di presentazione C) entro 30 giorni dalla giornata/e formativa/e definizione/aggiornamento di istruzioni operative (per A), B), C), Dirigente dell'Area Legale, n.q. di RpD) D) % dei dati presenti sulla piattaforma DPM per i quali si procede all'analisi/integrazione/modifica da parte dei vari Referenti di Ateneo rispetto alla propria Struttura, con il supporto dell’eventuale personale delegato alla gestione operativa del software E) validazione del Registro del trattamento dei dati da parte del Referente della rispettiva struttura di Ateneo: SI/NO (per D), E): Tutti i Dirigenti, ciascuno per la parte di competenza dell'Area) cfr. anche obiettivo 2_2024 riportato nella tabella 2.2.3 | F9: A) si, entro il 15/3/2024 B) entro 15 giorni dalla conoscenza dei delegati determinazione del calendario della o delle giornate di presentazione C) 100% entro 30 giorni dalla giornata/e formativa/e D) 100% entro il 18.11.2024 E) SI, entro il 16.12.2024 | L9: =+K9*D9 -> 0
A10: 3 | B10: Parità di Genere - GEP – Azione n. 6 | C10: Revisione del linguaggio di genere nella comunicazione istituzionale/amministrativa Adozione in Ateneo di un linguaggio inclusivo e rispettoso del genere Revisione della Modulistica amministrativa in ottica di genere | D10: 0.01 | E10: A) % di moduli revisionati rispetto ai moduli amministrativi già pubblicati sul sito web di Ateneo, nella sezione Modulistica B) % di moduli 'neutri nel genere' rispetto al totale dei nuovi moduli pubblicati nel 2024 (N.B. qualora nel 2024 non vi siano moduli da revisionare né moduli nuovi, al presente obiettivo è assegnato un peso pari a zero) | F10: a) 90% dei moduli già pubblicati (prima del 2024) B) 100% dei nuovi moduli pubblicati nel 2024 | L10: =+K10*D10 -> 0
A11: 4 | B11: Strategico - PSA- TRAIETTORIA Semplificazione e Università Agile Parità di Genere - GEP - Azione 1A - Lavoro Agile | C11: Formazione rivolta al personale dirigenziale e personale tecnico-amministrativo per lo sviluppo individuale e professionale Rafforzamento delle conoscenze e delle competenze | D11: 0.15 | E11: A) n. ore di formazione/anno fruite da ciascun/a dirigente B) % unità di personale t.a. per i quali viene definito il piano formativo personalizzato (almeno 24 ore/formazione) | F11: A) almeno 24 ore/anno, secondo i piani formativi individuali definiti per ciascun/a dirigente (cfr. appendice 3.4, parte I) NB - Tutte le informazioni sono pubblicate sul sito web di Ateneo, nell' area riservata di ciascuna unità di personale dirigenziale, nella sezione FORMAZIONE DIRIGENTI E PERSONALE T.A. B) 100% unità p.t.a. in servizio presso ciascun'Area e gli Uffici ad essa afferenti, con trasmissione dei relativi piani all'Ufficio Formazione | L11: =+K11*D11 -> 0
A12: 7 | B12: Etica e Trasparenza | C12: Rafforzamento e difesa dei valori etici e dell’integrità nella comunità accademica. Attuazione, per la parte di competenza, delle seguenti azioni, come precisato nella tabella 2.2.2 AT - ob Dir allegata al PIAO : A. formazione obbligatoria in materia di etica, prevenzione della corruzione, trasparenza e privacy (sub-peso 10%) B. attuazione delle misure per la prevenzione della corruzione programmate nell'appendice 2.3.E al PIAO (sub-peso 25%) C. attuazione degli obblighi di pubblicazione riepilogati nell'appendice 2.3.C al PIAO (sub-peso 25%) D. monitoraggio dello stato di attuazione delle misure di trasparenza e prevenzione della corruzione (sub-peso 20%) E. contributo all’aggiornamento del registro dei rischi (ed eventualmente del livello di rischio) e delle misure, anche all’esito delle risultanze dei monitoraggi e delle verifiche (sub-peso 20%) | D12: 0.15 | E12: A. percentuale di ore fruite rispetto al n. minimo di 8 ore di formazione obbligatoria (v. dettagli in calce al presente foglio, nella nota ob7.A). B. Percentuale di attuazione - per la parte di competenza della propria Area e degli Uffici di afferenza - delle misure per la prevenzione della corruzione programmate nell'appendice 2.3.E al PIAO (v. dettagli in calce al presente foglio, nella nota ob7.B). C. Percentuale di attuazione - per la parte di competenza della propria Area e degli Uffici di afferenza- degli obblighi di pubblicazione riepilogati nell'appendice 2.3.C al PIAO (v. dettagli in calce al presente foglio, nella nota ob7.C). D. rispetto dei termini di invio del I monitoraggio e del II monitoraggio dello stato di attuazione delle misure di trasparenza e prevenzione della corruzione (v. dettagli in calce al presente foglio, nella nota ob7.D). E. invio del contributo entro il 29.11.2024, per la parte di competenza (v. dettagli in calce al presente foglio, nella nota ob7.E). | F12: 100% | L12: =+K12*D12 -> 0
A13: 8 | B13: Etica e Trasparenza | C13: Rafforzamento e difesa dei valori etici e dell’integrità nella comunità accademica. Attuazione delle azioni di Ateneo finalizzate a conseguire le direttrici strategiche per l’etica e la trasparenza | D13: 0.24 | E13: Percentuale di attuazione di tutte le azioni programmate nell'appendice 2.3.A al PIAO | F13: 1 | L13: =+K13*D13 -> 0
A14: 11 | B14: Strategico - PSA- TRAIETTORIA Semplificazione e Università Agile | C14: Analisi delle criticità risultanti dagli esiti delle indagini di ascolto dell'utenza e conseguente progettazione e avvio di azioni di miglioramento. N.B. I risultati delle indagini di ascolto dell'utenza, completi dei suggerimenti/commenti eventualmente segnati dagli intervistati (in apposito campo libero del form), sono trasmessi ai/alle Dirigenti delle Aree ed ai Responsabili delle Strutture decentrate periodicamente (almeno due volte entro il 31/7/2024), per consentire la relativa analisi e la definizione, qualora emergano criticità, di azioni di miglioramento organizzativo. In ogni caso, i/le dirigenti possono consultare via via i report sintetici delle indagini direttamente, mediante appositi link - già comunicati dall'Ufficio Organizzazione e Performance - relativi ai singoli servizi | D14: 0.08 | E14: Stato di avanzamento (N.B. qualora nel 2024 sia assegnato un peso pari a zero al precedente obiettivo n.3, al presente obiettivo è assegnato un peso pari al 9% ) | F14: A) relazione al DG , da inviare via PEC all'indirizzo uff.organizzazione@pec.unina.it entro il 31/10/2024, con indicazione: - delle criticità rilevate e dell'analisi effettuata; - delle azioni di miglioramento progettate ed avviate; - delle ulteriori azioni di miglioramento proposte; (tutte/i le/i Dirigenti delle Aree) B) definizione da parte del DG delle azioni di miglioramento da realizzare con priorità, con conseguente definizione anche di obiettivi sfidanti da assegnare ai dirigenti (DG) | L14: =+K14*D14 -> 0
A15: 12 | B15: Strategico - PSA- TRAIETTORIA Semplificazione e Università Agile | C15: Revisione corpus regolamentare Aggiornamento/revisione dei Regolamenti di Ateneo | D15: 0.1 | E15: a) individuazione dei Regolamenti di competenza di ciascuna Area che necessitano di revisione/aggiornamento prioritariamente b) percentuale di Regolamenti revisionati/aggiornati, rispetto a quelli indicati per ciascun'Area dal DG a seguito della verifica di massima | F15: A) SI, con invio al DG entro il 31.5.2024 di un elenco in ordine di priorità; B) 100%, con invio al DG del testo proposto entro il 31.12.2024 | L15: =+K15*D15 -> 0
A16: 13 | B16: Strategico - PSA- TRAIETTORIA Semplificazione e Università Agile | C16: Valutazione della Performance del personale Progettazione, sperimentazione e messa in esercizio di nuovi metodi di valutazione | D16: 0.15 | E16: stato di avanzamento | F16: Invio entro il 31.10.2024 al DG di una proposta di metodi di valutazione 360 gradi e di possibili meccanismi di calibrazione | L16: =+K16*D16 -> 0
A17: 16 | B17: Strategico - PSA- TRAIETTORIA Semplificazione e Università Agile | C17: Monitoraggio e rispetto dei tempi di pagamento (art. 4 bis, d.l. 13/2023, conv. con l. 41/23) Ottemperanza alle istruzioni operative di Ateneo in materia | D17: 0.02 | E17: % fatture per le quali sono rispettati - per la parte di competenza dell'Area e degli Uffici di afferenza - termini e modalità indicati dalla legge e precisati nella nota PG/2023/0154469 del 11/12/2023 e nelle ulteriori istruzioni operative di Ateneo del 2024 diramate con PG/2024/0019079, rispetto al totale delle fatture pervenute all'Area che, a valle del processo di liquidazione, non sono pagate nel termine di 30 giorni | F17: 100% Ai fini della verifica del conseguimento del target: v. dettagli in calce al presente foglio, nella nota ob16. | L17: =+K17*D17 -> 0
D18: =SUM(D9:D17) -> 1 | K18: TOTALE | L18: =SUM(L9:L17) -> 0
B21: * Il Punteggio in autovalutazione è pari alla percentuale di raggiungimento del risultato. In caso di scostamento negativo tra la % in autovalutazione e grado di raggiungimento del risultato, il/la Dirigente dovrà fornire le opportune motivazioni. **In caso di scostamento in positivo o in negativo tra il punteggio di autovalutazione e il punteggio di valutazione relativo a singole voci, il soggetto valutatore dovrà fornire le opportune motivazioni.
B22: *** l’articolazione dei pesi tra le diverse tipologie di obiettivi è fissata nel PIAO, nel rispetto delle previsioni del SMVP: è fissa la percentuale del 5% per gli obiettivi collegati ai miglioramenti di efficienza e di efficacia (obiettivi organizzativi di continuità); è fissa la percentuale del 45% riguardante gli obiettivi di comportamento organizzativo; gli eventuali obiettivi individuali pesano tra 0 e il 10%; i restanti punti percentuali sono suddivisi tra gli obiettivi istituzionali e gli obiettivi, anche trasversali, attribuiti alle Aree dell'amministrazione.
B24: nota ob7.A: L'indicatore dell'obiettivo n. 7 lettera A è la percentuale (%) di ore fruite rispetto al n. minimo di 8 ore di formazione obbligatoria: - Corso in modalità e-learning: CODICE DI COMPORTAMENTO ED ETICA PUBBLICA: UNA MIGLIORE ORGANIZZAZIONE (4 ore), da completare entro il 31.7.2024; - ulteriori corsi in materia (almeno 4 ore), da completare entro il 31.10.2024: l'Ufficio formazione (U.F.O.) e la RPCT curano l’organizzazione di corsi in materia di etica, prevenzione della corruzione, trasparenza e privacy, nonché l’iscrizione, previa autorizzazione del DG, ad ulteriori corsi in materia proposti dal singolo dirigente nelle specifiche aree di rischio. N.B. Il DG è autorizzato a concedere con apposita nota, su proposta della RPCT di Ateneo, una proroga dei suindicati termini del 31.7.2024 e del 31.10.2024 per l'ultimazione delle ore formazione obbligatoria in materia di etica, prevenzione della corruzione, trasparenza e privacy. Ai fini del raggiungimento del n. di ore si tiene conto anche della eventuale partecipazione del dirigente ai focus group organizzati dall’Ufficio Etica e Trasparenza.
B25: nota ob7.B: L'indicatore dell'obiettivo n. 7 lettera B è la percentuale (%) di attuazione - per la parte di competenza della propria Area e degli Uffici di afferenza - delle misure per la prevenzione della corruzione programmate nell'appendice 2.3.E al PIAO. N.B. nella pagina web ‘dedicata’ all'Area Organizzazione e Sviluppo (raggiungibile dal link http://www.unina.it/trasparenza/at/area-organizzazione-sviluppo) è messo a disposizione - a cura dell’Ufficio Etica e trasparenza (UET) - il File excel allegato al PIAO riepilogativo delle misure di prevenzione della corruzione di competenza dell'Area e degli Uffici ad essa afferenti.
B26: nota ob7.C: L'indicatore dell'obiettivo n. 7 lettera C è la percentuale (%) di attuazione - per la parte di competenza della propria Area e degli Uffici di afferenza- degli obblighi di pubblicazione riepilogati nell'appendice 2.3.C al PIAO. N.B. nella citata pagina web ‘dedicata’ all'Area è messo a disposizione - a cura dell’Ufficio Etica e trasparenza (UET) - un estratto in formato excel degli obblighi di pubblicazione di competenza dell'Area e degli Uffici ad essa afferenti.
B27: nota ob7.D: L'indicatore dell'obiettivo n. 7 lettera D è il rispetto dei termini di invio del I monitoraggio (report al 30 giugno, da inviare entro il 31.7.2024 all’indirizzo PEC uff.etica-trasparenza@pec.unina.it) e del II monitoraggio (report al 31 ottobre, da inviare entro il 22.11.2024 all’indirizzo uff.etica-trasparenza@pec.unina.it) dello stato di attuazione delle misure di trasparenza e prevenzione della corruzione. Al pieno rispetto di tali termini corrisponde una percentuale di attuazione del 100%, ridotta proporzionalmente in caso di ritardo (si tiene conto a tal fine della media dei gg di trasmissione oltre il termine del I e II monitoraggio); la percentuale di attuazione è pari a 0 in caso di invio con un ritardo medio superiore a 15 giorni. Si ricorda che il II monitoraggio dello stato di attuazione delle misure di trasparenza e prevenzione della corruzione (da trasmettere entro venerdì 22 novembre 2024) è finalizzato anche alla tempestiva redazione della relazione RPCT per ANAC (entro 15.12.2024), per cui in caso di mancato invio nei termini la RPCT deve darne conto anche in/ tale relazione. N.B. nella citata pagina web ‘dedicata’ all'Area sono messi a disposizione - a cura dell’Ufficio Etica e trasparenza (UET) - un facsimile personalizzato da utilizzare per i report di monitoraggio dello stato di attuazione delle misure di prevenzione della corruzione e un facsimile personalizzato da utilizzare per i report di monitoraggio dello stato di attuazione degli obblighi di pubblicazione. In sede di invio del fascicolo di valutazione il/la dirigente dovrà citare le date di invio del I e II monitoraggio, nonché indicare le ulteriori attività poste in essere nei mesi di novembre e dicembre 2024 per completare l’attuazione delle misure anticorruzione e trasparenza; pertanto, relativamente ai mesi di novembre e dicembre 2024, al fine di consentire la valutazione della performance 2024 da parte del DG (previa istruttoria dell’UET e della RPCT) dovrà essere inviato entro il 15.3.2025 all’indirizzo pec uff.etica-trasparenza@pec.unina.it un ulteriore report (III monitoraggio, relativo al periodo 1.11.2024- 31.12.2024).
B28: nota ob7.E: L'indicatore dell'obiettivo n. 7 lettera E è la percentuale di invio del contributo entro il 29.11.2024, per la parte di competenza. Al pieno rispetto di tale termine corrisponde una percentuale di attuazione del 100%, ridotta proporzionalmente in caso di ritardo (si tiene conto a tal fine dei gg di trasmissione oltre il termine); la percentuale di attuazione è pari a 0 in caso di invio con un ritardo superiore a 60 giorni. Si ricorda che il contributo è finalizzato all’aggiornamento della sezione e delle appendici/allegati del PIAO relativi all'etica ed alla trasparenza. Ulteriori indicazioni in materia saranno riportate in apposita circolare, inviata a mezzo protocollo e - a cura dell’Ufficio Etica e trasparenza (UET) - resa disponibile, unitamente al facsimile excel personalizzato da utilizzare, nella citata pagina web ‘dedicata’ all'Area.
B29: nota ob16: Ai fini della verifica del conseguimento del target: - l’ufficio di Supporto alla Gestione Economico Finanziaria invierà entro il 15.2.2025 a ciascun Dirigente (alla pec personale e dell'Area), nonché al DG (all'indirizzo uff.performance@pec.unina.it) l' elenco delle eventuali fatture elettroniche scadute nell'anno 2024 (ossia quelle per le quali siano decorsi 30 giorni dalla ricezione tramite SDI) e non pagate nel termine di 30 gg, utilizzando la stampa della procedura di contabilità U-Gov; - il dirigente dovrà allegare al fascicolo di valutazione n. 1 Report contenente per tutte le predette fatture (scadute nell'anno 2024 e non pagate) di competenza dell'Area: il codice identificativo SDI, la relativa data di ricezione in SDI, la data di accettazione o rifiuto della fattura (con l'indicazione dell'eventuale accettazione intervenuta per decorrenza termini), la data di trasmissione agli uffici contabili degli atti di liquidazione completi di tutta la documentazione richiesta con nota PG/2024/0019079 del 14/02/2024, le eventuali segnalazioni effettuate in attauzione della citata nota PG/2024/0019079 (indicando gli estremi delle relative PEC/note).

Sheet 3. Comportamenti
A1: B - VALUTAZIONE DEI/LLE DIRIGENTI
A2: SCHEDA PER LA VALUTAZIONE DEI COMPORTAMENTI DIRIGENZIALI (da inviare entro il 15 marzo, nell'ambito del fascicolo di valutazione)
A3: La valutazione dei comportamenti pesa il 45% sulla retribuzione di risultato
A5: Data:
A6: Soggetto valutatore: Direttore Generale
A7: Nome Dirigente valutato:
A10: Comportamenti | B10: Peso | C10: Indicatori | D10: Domande di controllo | E10: Peso Indicatore | G10: Autovalutazione punteggio* | H10: Commento a cura del Dirigente valutato** | I10: Valutazione punteggio* | J10: Punteggio ottenuto in base alla valutazione (%) | K10: Commento a cura del soggetto valutatore (in caso di punteggio di valutazione diverso da quello di autovalutazione)
A12: A) Efficienza, economicità ed efficacia delle azioni | B12: 0.15 | C12: A.1 Orientamento al risultato | D12: A.1 Ha perseguito in modo completo e coordinato i risultati attesi, riducendo effettivamente criticità e problemi negli ambiti di competenza? | E12: 0.4 | J12: =I12*E12*$B$12 -> 0
C13: A.2 Semplificazione e accelerazione delle procedure | D13: A.2 Ha messo in campo le azioni per snellire e accelerare le procedure di competenza dell'Area e degli Uffici ad essa afferenti? | E13: 0.6 | J13: =I13*E13*$B$12 -> 0
A14: B) Orientamento all’utente interno/esterno (anche in relazione ai servizi erogati a distanza) | B14: 0.15 | C14: B.1 Qualità e gestione del disservizio | D14: B.1 Riconosce la non conformità con gli standard previsti e reagisce tempestivamente, adottando le adeguate misure con gli utenti? | E14: 0.6 | J14: =I14*E14*$B$14 -> 0
C15: B.2 Comunicazione con l’utenza | D15: B.2 Ha individuato e adeguatamente pubblicizzato sul sito web di Ateneo molteplici CANALI per la COMUNICAZIONE, anche a DISTANZA, con gli utenti interni ed esterni (con le relative fasce orarie) e ne ha monitorato costantemente il pieno funzionamento, presso l'Area e gli Uffici ad essa afferenti? | E15: 0.4 | J15: =I15*E15*$B$14 -> 0
A16: C) Leadership, Gestione e valorizzazione dei/lle collaboratori/trici (anche in ragione dello svolgimento dell’attività lavorativa in regime di SW) | B16: 0.3 | C16: C.1 Ricerca e implementazione di nuove soluzioni | D16: C.1 Ha ricercato e/o attuato soluzioni innovative, ponendo attenzione anche agli scenari di cambiamento utili all'Ateneo? | E16: 0.1 | J16: =I16*E16*$B$16 -> 0
C17: C.2 Approccio per obiettivi nella gestione degli Uffici afferenti all'Area | D17: C.2 Ha adottato un approccio per obiettivi nella gestione degli Uffici? | E17: 0.15 | J17: =I17*E17*$B$16 -> 0
C18: C.3 Feed-back agli Uffici afferenti all'Area e ASCOLTO dei/lle collaboratori/trici | D18: C.3 Ha organizzato riunioni programmate o altri momenti di confronto per fornire frequenti feed-back agli Uffici ed ai/lle Capi Ufficio sull’andamento delle performance di gruppo ed individuali e per l’ASCOLTO dei/lle collaboratori/trici? | E18: 0.15 | J18: =I18*E18*$B$16 -> 0
C19: C.4 Autorevolezza nel proprio ruolo | D19: C.4 Ha guidato con autorevolezza e stile appropriato il proprio gruppo e le interazioni con l'esterno? | E19: 0.1 | J19: =I19*E19*$B$16 -> 0
C20: C.5 Capacità di gestione del conflitto e sensibilità al clima organizzativo | D20: C.5 Ha attuato modalità di gestione delle dinamiche conflittuali tali da favorire la negoziazione e la cooperazione ed ha adottato le iniziative orientate a rimuovere le situazioni di disagio? | E20: 0.15 | J20: =I20*E20*$B$16 -> 0
C21: C.6 Attenzione allo sviluppo dei/delle collaboratori/trici e capacità di delegare | D21: C.6 Ha incentivato lo sviluppo dei punti di forza e il recupero dei punti di debolezza e delle lacune di conoscenza dei/delle propri/e collaboratori/trici, incentivando l'assunzione di responsabilità anche mediante delega? | E21: 0.1 | J21: =I21*E21*$B$16 -> 0
C22: C.7 Capacità di valutazione differenziata dei/lle propri/e collaboratori/trici N.B.: Per il personale in servizio presso l'Area e gli uffici ad essa afferenti si tiene conto dei riepiloghi inviati dall’URSTA al N.d.V. Per il personale di cat D ed EP con incarico conferito dal DG in servizio presso l'Area e gli uffici ad essa afferenti, si tiene conto della valutazione trasmessa dai/dalle dirigenti ad URSTA e, per conoscenza, all’Ufficio Organizzazione e Performance. | D22: C.7 Attenta e motivata differenziazione dei giudizi dei/lle collaboratori/trici, al fine di assicurare una rappresentazione veritiera del contributo assicurato dai/lle singoli/e ai risultati dell'organizzazione sia in termini di obiettivi raggiunti, sia di comportamenti resi | E22: 0.25 | J22: =I22*E22*$B$16 -> 0
A23: D) Capacità di programmazione e controllo (anche con riguardo alla programmazione del lavoro in modalità agile) | B23: 0.3 | C23: D.1 Valorizzazione della programmazione e monitoraggio costante dello stato di avanzamento degli obiettivi/attività degli Uffici e dei/lle Capi Ufficio | D23: D.1 Ha posto in essere misure opportune per la valorizzazione della programmazione ed ha monitorato costantemente lo stato di avanzamento degli obiettivi/attività degli Uffici e dei/lle Capi Ufficio, con individuazione delle azioni correttive da adottare? | E23: 0.2 | J23: =I23*E23*$B$23 -> 0
C24: D.2 Svolgimento delle attività in funzione della qualità e tempestività del sistema di programmazione e valutazione dell’Ateneo | D24: D.2a Ha inviato i report di monitoraggio degli obiettivi tenendo conto dei tempi previsti nel SMVP, finalizzati a consentire le conseguenti valutazioni e la tempestiva adozione delle azioni correttive eventualmente necessarie (a seguito del I monitoraggio) nonché la successiva programmazione (a seguito del II monitoraggio)? | E24: 0.15 | J24: =I24*E24*$B$23 -> 0
D25: D.2b Ha inviato l'intero fascicolo di valutazione e la relativa documentazione di dettaglio tenendo conto dei tempi previsti nel SMVP, finalizzati ad assicurare la tempestiva predisposizione della Relazione sulle performance? | E25: 0.15 | J25: =I25*E25*$B$23 -> 0
D26: D.2c Ha inviato tutta la documentazione di propria competenza all’URSTA in ordine alla valutazione del personale in servizio presso l'Area e gli uffici ad essa afferenti (obiettivi di continuità, nonché valutazione dei comportamenti del personale di cat B-C-D senza incarico) tenendo conto dei tempi previsti nel SMVP, finalizzati anche a consentire la tempestiva liquidazione degli importi agli aventi diritto? | E26: 0.15 | H26: DOCUMENTAZIONE TRASMESSA ALL'URSTA IN DATA***: Ufficio ___ prot. n. __ in data ___ Ufficio ___ prot. n. __ in data ___ Ufficio ___ prot. n. __ in data ___ Ufficio ___ prot. n. __ in data ___ Ufficio ___ prot. n. __ in data ___ Ufficio ___ prot. n. __ in data ___ Ufficio ___ prot. n. __ in data ___ | J26: =I26*E26*$B$23 -> 0
D27: D.2d Ha inviato tutta la documentazione di propria competenza all’URSTA in ordine alla valutazione del personale di cat D ed EP con incarico conferito dal DG in servizio presso l'Area e gli uffici ad essa afferenti, tenendo conto dei tempi previsti nel SMVP, finalizzati anche a consentire la tempestiva liquidazione degli importi agli aventi diritto? | E27: 0.15 | H27: DOCUMENTAZIONE TRASMESSA ALL'URSTA IN DATA***: Ufficio ___ prot. n. __ in data ___ Ufficio ___ prot. n. __ in data ___ Ufficio ___ prot. n. __ in data ___ Ufficio ___ prot. n. __ in data ___ Ufficio ___ prot. n. __ in data ___ Ufficio ___ prot. n. __ in data ___ Ufficio ___ prot. n. __ in data ___ | J27: =I27*E27*$B$23 -> 0
D28: D.2e Ha inviato al competente ufficio dell'Area Bilancio e Finanza i dati richiesti annualmente, tenendo conto dei tempi fissati dal D.G., finalizzati alla tempestiva predisposizione del Bilancio di Ateneo? N.B. i/le dirigenti dovranno indicare per la propria Area e gli Uffici di afferenza gli estremi delle note di trasmissione all'Ufficio Programmazione Economico Finanziaria | E28: 0.2 | J28: =I28*E28*$B$23 -> 0
A29: E) Problem solving | B29: 0.1 | C29: E.1 Gestione degli imprevisti | D29: E.1 Ha risposto con prontezza, lucidità ed efficacia alle situazioni non prevedibili? | E29: 0.6 | J29: =I29*E29*$B$29 -> 0
C30: E.2 Collaborazione e aiuto ad altre strutture Ateneo per la risoluzione di criticità e problemi o per il miglioramento delle procedure nell'interesse degli utenti interni/esterni | D30: E.2 Ha adottato significative azioni di collaborazione e sostegno a colleghi/e? | E30: 0.4 | J30: =I30*E30*$B$29 -> 0
A31: TOTALE | B31: =SUM(B12:B30) -> 1 | E31: =+SUM(E12:E30)/5 -> 1 | G31: =SUM(G12:G30) -> 0 | I31: =SUM(I12:I30) -> 0 | J31: =SUM(J12:J30)*100 -> 0
A32: Rapporto con Valore di Riferimenti (VR) | J32: =(J31/I33)*100 -> 0
G33: VR | H33: Per il 2024 il punteggio massimo attribuibile è pari a 409,00 | I33: 409 | J33: =IF((J32<=100),J32,IF((J32>100),"100",)) -> 0 | K33: % premio
A34: Legenda:
A35: (*) Punteggio per l'Autovalutazione e per la Valutazione | C35: Giudizio
A37: 0 | C37: Nessun contributo
A38: 1 | C38: Inferiore alle aspettative
A39: 2 | C39: Sufficiente in relazione alla aspettative
A40: 3 | C40: Positivo in relazione alle aspettative
A41: 4 | C41: Molto positivo in relazione alle aspettative
A42: 5 (N.B. assegnabile solo in sede di valutazione da parte del DG) | C42: Contributo eccellente rispetto a situazioni di contesto non ordinarie in un particolare ambito
A44: **Si ricorda che a partire dal 2022 è prevista solo per il D.G. la possibilità di segnare nella presente scheda di valutazione dei comportamenti un punteggio di valutazione pari a 5 per 1 voce di comportamento, in caso di contributo del/della dirigente eccellente rispetto a situazioni di contesto non ordinarie in un particolare ambito. Il punteggio massimo di autovalutazione è dunque pari a 4; nella colonna Motivazione punteggio autovalutazione, occorre riportare obbligatoriamente le motivazioni analitiche in corrispondenza delle voci per le quali è segnato in caso di nessun contributo e motivazioni sintetiche in corrispondenza delle voci per le quali è segnato un punteggio di autovalutazione pari a 1 o 4; tali motivazioni dovranno in ogni caso far riferimento a situazioni concrete. Tali motivazioni sono da inserire obbligatoriamente, pena l'irricevibilità della presente scheda ***Qualora la data di trasmissione della scheda dall'Area dirigenziale all'URSTA sia successiva al termine fissato nel SMVP (per la voce D.2c: il 31/01/2025; per la voce D.2d: il 28/02/2025) per uno o più unità di personale, il/la dirigente è chiamato/a a riportare nella scheda anche la data in cui la scheda di autovalutazione è stata trasmessa dall'interessato/a al/alla dirigente. N.B. ricorre una valutazione negativa qualora – in sede di valutazione dei comportamenti organizzativi – il/la dirigente consegua un punteggio ponderato totale derivante dai giudizi pari o inferiore a 100 (ciò accade quando il valore medio del punteggio attribuito a tutti i criteri è compreso tra 1 – contributo inferiore alle aspettative e 0 – nessun contributo). Ciò rileva ai fini dell’accertamento della responsabilità dirigenziale ex articolo 21 del Dlgs 165/2001, che può portare all’impossibilità di rinnovo dell’incarico dirigenziale, fino alla revoca dell’incarico stesso ovvero al recesso dal rapporto di lavoro secondo le disposizioni del contratto collettivo nazionale. Come segnalato nel SMVP, in caso di valutazione negativa, inoltre, non si procede ad erogare all’unità di personale coinvolta (dirigente o personale t.a.) i compensi correlati alla valutazione della performance individuale e della performance organizzativa e si procede al recupero di quanto eventualmente corrisposto in acconto.

Sheet 4. RELAZIONE DI SINTESI
A1: RELAZIONE SINTETICA SUGLI OBIETTIVI OPERATIVI E SUGLI OBIETTIVI CONNESSI A COMPETENZE E COMPORTAMENTI
A11: PARTE PRIMA – OBIETTIVI(ob. organizzativi di struttura e trasversali, nonché eventuali obiettivi individuali)
A12: Per ognuno degli obiettivi operativi assegnati indicare il livello di raggiungimento, le principali attività poste in essere ed i risultati raggiunti.
A14: Max 1,5 pagine
A16: PARTE SECONDA : OBIETTIVI CONNESSI A COMPETENZE E COMPORTAMENTI
A17: La/Il dirigente è chiamato a soffermarsi in questa parte seconda della relazione (max 1,5 pagine) su aspetti o criticità particolarmente rilevanti affrontate nell’anno nella propria Area, rientranti in una o più delle seguenti categorie:
A18: Efficienza, economicità ed efficacia delle azioni
A19: Orientamento all’utente interno/esterno (anche in relazione ai servizi erogati a distanza)
A20: Leadership, Gestione e valorizzazione dei collaboratori (anche in ragione dello svolgimento dell’attività lavorativa in regime di SW)
A21: Capacità di programmazione e controllo (anche con riguardo alla programmazione del lavoro in modalità agile)
A22: Problem solving
A23: In tale parte i/le dirigenti dovranno dare evidenza, tra l’altro, delle effettive modalità di conduzione e gestione del lavoro agile nell'Area e negli Uffici afferenti
A24: Max 1,5 pagine

Sheet I. Obblighi Dirigenziali
A1: VALUTAZIONE DEI/LLE DIRIGENTI SCHEDA PER LA VALUTAZIONE DEGLI OBBLIGHI DIRIGENZIALI RILEVANTI AI FINI DELLA RETRIBUZIONE DI RISULTATO Il mancato rispetto dei seguenti obblighi vieta o decurta l'intera erogazione della retribuzione di risultato
A2: Data:
A4: Nome Dirigente valutato:
A5: N.B. A cura dell’Ufficio Organizzazione e Performance, il fascicolo di valutazione del/la dirigente sarà integrato con la presente Scheda, compilata sulla base dei dati in possesso dei competenti uffici delle Aree Risorse umane e Affari Legali, Privacy, Trattamenti Accessori e Pensionistici
A7: Obbligo Dirigenziale | B7: Riferimento Normativo | C7: Divieto Decurtazione | D7: Indicatore | E7: Valore Indicatore
A8: Esercizio azione disciplinare (1) | B8: Il mancato esercizio o la decadenza dell'azione disciplinare, dovuti all'omissione o al ritardo, senza giustificato motivo, degli atti del procedimento disciplinare o a valutazioni sull'insussistenza dell'illecito disciplinare irragionevoli o manifestamente infondate, in relazione a condotte aventi oggettiva e palese rilevanza disciplinare, comporta l'applicazione della sanzione disciplinare della sospensione dal servizio con privazione della retribuzione in proporzione alla gravità dell'infrazione non perseguita, fino ad un massimo di tre mesi in relazione alle infrazioni sanzionabili con il licenziamento, ed altresì la mancata attribuzione della retribuizone di risultato per un importo pari a quello spettante per il doppio del periodo della durata della sospensione (D.lgs. 165/2001 art. 55 sexies, comma 3) | C8: Decurtazione di un importo pari a quello spettante per il doppio del periodo della durata della sospensione | D8: Attuabile solo se in presenza di condotte contrarie ai doveri del/lla dipendente: SI/No corretto esercizio del potere disciplinare | E8: a. SI: nessuna decurtazione b. No: Decurtazione di un importo pari a quello spettante per il doppio del periodo della durata della sospensione comminata in sede disciplinare
A9: (1) L'ufficio competente (Ufficio Affari Speciali del Personale) attesterà annualmente al Direttore Generale, sulla base della documentazione agli atti dell'ufficio, l'assenza o meno di sanzioni disciplinari irrogate al/lla dirigente per una delle fattispecie sopra evidenziate nonchè all'Ufficio preposto alla liquidazione della retribuzione di risultato(UPTA)
A10: Controllo sulle assenze (2) | B10: Il/La Dirigente dell'Area in cui il/la dipendente lavora nonché il/la dirigente eventualmente preposto/a all'amministrazione generale del personale, secondo le rispettive competenze, curano l'osservanza delle disposizioni dell'art.55 septies del D.l. 165/2001 relative alle assenze, in particolare al fine di prevenire o contrastare, nell'interesse della funzionalità dell'ufficio, le condotte assenteistiche. Si applicano, al riguardo, le disposizioni degli articoli 21 e 55-sexies, comma 3 (D.lgs. 165/2001, Art. 55 septies, comma 6) | C10: Decurtazione di un importo pari a quello spettante per il doppio del periodo della durata della sospensione | D10: Per tutti/e i/le dirigenti (a) SI/NO: adozione di tutti gli atti di propria competenza per il personale in servizio presso l'Area e gli uffici ad essa afferenti Solo per i/le dirigenti delle Aree Risorse umane e Affari Legali, Privacy, Trattamenti Accessori e Pensionistici: (b) SI/NO: attuazione per il tramite degli uffici competenti (UASP e UAPPC) degli adempimenti conseguenti alle irregolarità comunicate dai/lle singoli/e responsabili delle strutture | E10: Indicatore (a) Si: nessuna decurtazione No: Decurtazione di un importo pari a quello spettante per il doppio del periodo della durata della sospensione comminata in sede disciplinare Indicatore (b) Si: nessuna decurtazione No: Decurtazione di un importo pari a quello spettante per il doppio del periodo della durata della sospensione comminata in sede disciplinare
A11: (2) L'ufficio competente (Ufficio Affari Speciali del Personale) con l'eventuale supporto dell'Ufficio Assenze e Presenze Personale Contrattualizzato attesterà annualmente al Direttore Generale, sulla base della documentazione agli atti dell'ufficio, l'assenza o meno di sanzioni disciplinari irrogate al/alla dirigente per una delle fattispecie sopra evidenziate, nonchè all'Ufficio preposto alla liquidazione della retribuzione di risultato(UPTA)

Sheet II. ob. Istituzionali
B1: SCHEDA PER LA VALUTAZIONE FINALE DEGLI OBIETTIVI ISTITUZIONALI
B2: PESO: 10 %*** DELLA RETRIBUZIONE DI RISULTATO COMPLESSIVA
B4: Data:
B5: Soggetto valutatore: Direttore Generale
B6: Nome dirigente valutato:
B7: N.B. A cura dell’Ufficio Organizzazione e Performance, il fascicolo di valutazione del/lla dirigente sarà integrato con la presente Scheda, compilata sulla base dei dati acquisiti dalle competenti Strutture di Ateneo
B8: COMPILAZIONE A CURA DELL'UFFICIO ORGANIZZAZIONE E PERFORMANCE
A9: ob. N. | B9: Finalità | C9: Obiettivo/Azioni | D9: Indicatore | E9: Target 2024 | F9: Referente Amministrativo | G9: Descrizione dei risultati raggiunti al 31 dicembre | H9: Risultato Raggiunto (in %) | J9: Note
A10: 1 | B10: Strategico - PSA - OBIETTIVO 6 – Ricerca Globale - Azione 6.1 | C10: Promuovere la qualità e la crescita della Ricerca in Ateneo, attraverso interventi volti a realizzare un circolo dinamico della conoscenza Supporto e valorizzazione delle attività di ricerca di Ateneo con particolare riferimento alla partecipazione a bandi competitivi Rafforzamento del supporto dell’Amministrazione Centrale alle attività di ricerca delle Strutture decentrate Dipartimenti di Eccellenza - Monitoraggio stato di attuazione dei progetti e dell'andamento della spesa | D10: n. report/anno | E10: almeno n. 2 report/anno | F10: Direttore generale, nonché: Dirigente ad interim dell'Area Ricerca e TM (anche con riferimento ai dati ricevuti dalle Strutture decentrate); Dirigente dell'Area Attività Contrattuale e Dirigente dell'Area Bilancio , Area Edilizia, Area Risorse umane, ciascuno per la parte di competenza
A11: 2 | B11: Strategico - PSA - OBIETTIVO 6 – Ricerca Globale e OBIETTIVO 7 - Engaged University- Azioni 6.1 e 7.4 | C11: Promuovere la qualità e la crescita della Ricerca in Ateneo, attraverso interventi volti a realizzare un circolo dinamico della conoscenza Supporto e valorizzazione delle attività di ricerca di Ateneo con particolare riferimento alla partecipazione a bandi competitivi Partecipazione attiva alle reti pubblico-private, agli ecosistemi dell’innovazione e ai centri nazionali di ricerca in relazione al PNRR Rafforzamento del supporto dell’Amministrazione Centrale alle attività di ricerca delle Strutture decentrate Piano Nazionale di Ripresa e Resilienza - Monitoraggio stato di attuazione dei progetti e dell'andamento della spesa | D11: n. report/anno | E11: almeno n. 2 report/anno | F11: Direttore generale, nonché: Dirigente ad interim dell'Area Ricerca e TM (anche con riferimento ai dati ricevuti dalle Strutture decentrate); Dirigente dell'Area Attività Contrattuale e Dirigente dell'Area Bilancio , Area Edilizia, Area Risorse umane, ciascuno per la parte di competenza
A12: 3 | B12: Parità di Genere - GEP – Azione n. 17: Formazione specifica per commissioni di concorso e governance su Unconscious bias | C12: Formazione della comunità universitaria sulle tematiche di genere Erogazione modulo aggiuntivo su "Unconscious Bias" all'interno del MOOC “Uguaglianza di genere e contrasto alle discriminazioni nelle università” su piattaforma Federica web learning | D12: a) n. iniziative/anno finalizzate alla diffusione del modulo tra i componenti delle Commissioni di oncorso b) monitoraggio della fruizione da parte del personale componente le Commissioni di concorso (operanti nell'anno 2024): SI/NO | E12: a) almeno n. 1 b) SI | F12: Direttore Generale (con il supporto del personale del Centro FEDERICA WEB-LEARNING e dell'Ufficio formazione
A13: 4 | B13: Strategico - PSA- TRAIETTORIA Semplificazione e Università Agile Parità di Genere - GEP - Azione 1A - Lavoro Agile | C13: Investire nell’empowerment delle risorse umane Aggiornamento del disciplinare di Ateneo sul lavoro agile, alla luce del nuovo quadro normativo nazionale e delle previsioni del nuovo CCNL | D13: SI/N0 | E13: Si, ove necessario a seguito di innovazioni normative, contrattuali e/o organizzative | F13: Direttore generale e Dirigente della Area Risorse umane
A14: 5 | B14: Strategico - PSA- TRAIETTORIA Semplificazione e Università Agile Parità di Genere - GEP - Azione 1A - Lavoro Agile | C14: Investire nell’empowerment delle risorse umane e migliorare la qualità dei servizi. Introdurre ed attuare misure finalizzate ad accrescere il benessere dei lavoratori e delle lavoratrici e la conciliazione dei tempi di vita/lavoro. Monitoraggio degli indicatori riportati nella sezione LAVORO AGILE del presente PIAO, anche ai fini dell'elaborazione del PIAO 2025/27 | D14: n. report/anno | E14: almeno 2 | F14: Dirigente dell'Area Organizzazione e Sviluppo - unitamente al CSI di Ateneo - con il contributo di tutti i dirigenti, ciascuno per la parte di competenza
A15: 6 | B15: Strategico - PSA- TRAIETTORIA Semplificazione e Università Agile | C15: Semplificazione dei processi ed accelerazione dei tempi procedimentali. Reingegnerizzazione e digitalizzazione dei processi delle strutture di Ateneo | D15: Stato di avanzamento delle azioni di riprogettazione/adeguamento individuate come prioritarie dal Direttore generale e dal Gruppo di lavoro interdisciplinare per la Razionalizzazione del Modello Organizzativo e Procedurale dell’Ateneo | E15: A) sperimentazione finalizzata alla messa in esercizio del nuovo Portale web di Ateneo; B) potenzionamento del sistema di posta elettronica per il personale; C) ultimazione dello studio di fattibilità per la migrazione ad una nuova piattaforma di gestione della didattica e delle carriere degli studenti D)studio di fattibilità per la realizzazione di un'applicazione finalizzata all’acquisizione delle richieste di autorizzazione allo svolgimento di incarichi extraistituzionali e di insegnamento, e delle comunicazionI di svolgimento di attività liberamente esercitabili E) sviluppo di nuove funzionalità nell'app MYUNINA | F15: Direttore Generale e Dirigenti - CSI di Ateneo
