Workbook

Sheet 1. Asseg, Monit e Sintesi Ob.
B1: Scheda per l’assegnazione al dirigente, i relativi monitoraggi e la sintesi al 31.12 degli obiettivi organizzativi di struttura e trasversali (il cui conseguimento/coordinamento è attribuito al dirigente medesimo) ed eventuali obiettivi individuali ulteriori
B2: RESPONSABILE: DIRIGENTE dell'AREA RICERCA, INTERNAZIONALIZZAZIONE e TERZA MISSIONE
A3: ob. N. | B3: finalità | C3: Obiettivo | D3: Peso | E3: Indicatore | F3: Target 2023 | G3: I Monitoraggio Indicare i risultati intermedi/stato di avanzamento al 30 giugno | H3: Scostamento | I3: II Monitoraggio Indicare i risultati intermedi/stato di avanzamento al 31 ottobre | J3: Scostamento | K3: Sintesi Indicare i risultati raggiunti al 31 dicembre | L3: Scostamento
A4: ='2. SCHEDA VAL. FIN. OB.'!A9 -> 4 | B4: ='2. SCHEDA VAL. FIN. OB.'!B9 -> Parità di Genere - GEP – Azione n. 6 | C4: ='2. SCHEDA VAL. FIN. OB.'!C9 -> Revisione del linguaggio di genere nella comunicazione istituzionale/amministrativa Adozione in Ateneo di un linguaggio inclusivo e rispettoso del genere Revisione della Modulistica amministrativa in ottica di genere | D4: ='2. SCHEDA VAL. FIN. OB.'!D9 -> 0 | E4: ='2. SCHEDA VAL. FIN. OB.'!E9 -> % percentuale di moduli revisionati rispetto ai moduli amministrativi pubblicati sul sito web di Ateneo, nella sezione Modulistica | F4: ='2. SCHEDA VAL. FIN. OB.'!F9 -> B) target di Ateneo->50% Per l'Area Affari generali: il target è pari al 100% della modulistica dell'ufficio Archivio
A5: ='2. SCHEDA VAL. FIN. OB.'!A10 -> 5 | B5: ='2. SCHEDA VAL. FIN. OB.'!B10 -> Strategico - PSA- TRAIETTORIA Semplificazione e Università Agile Parità di Genere - GEP - Azione 1A - Lavoro Agile | C5: ='2. SCHEDA VAL. FIN. OB.'!C10 -> Investire nell’empowerment delle risorse umane e migliorare la qualità dei servizi. Monitoraggio e miglioramento servizi a distanza Contributo per la parte di competenza alle seguenti attività: A) Definizione/aggiornamento del sistema di monitoraggio dei servizi erogati a distanza B) Pubblicazione on line degli standard di qualità C) monitoraggio del grado di soddisfazione dell'utenza in relazione ai servizi a distanza | D5: ='2. SCHEDA VAL. FIN. OB.'!D10 -> 0 | E5: ='2. SCHEDA VAL. FIN. OB.'!E10 -> % di contributo, per la parte di competenza, al raggiugimento dei target di Ateneo, fissati per questo obiettivo nell'appendice 3.2.B del PIAO: SI/NO | F5: ='2. SCHEDA VAL. FIN. OB.'!F10 -> 100% del contributo necessario, di seguito riportato: aggiornamento/completamento delle carte dei servizi elencati in nota**** ( i facsimile e l'ulteriore documentazione utile per completare/aggiornare le schede dei servizi sono stati inviati via mail al dirigente da uff.organizzazione@unina.it il 12 maggio 2023)
A6: ='2. SCHEDA VAL. FIN. OB.'!A11 -> 11 | B6: ='2. SCHEDA VAL. FIN. OB.'!B11 -> Prevenzione della Corruzione e Trasparenza | C6: ='2. SCHEDA VAL. FIN. OB.'!C11 -> Rafforzamento e difesa dei valori etici e dell’integrità nella comunità accademica. Attuazione, per la parte di competenza, delle azioni per la trasparenza e la prevenzione della corruzione, precisato nella tabella 2.2.2 AT: cfr. ob AT dir | D6: ='2. SCHEDA VAL. FIN. OB.'!D11 -> 0 | E6: ='2. SCHEDA VAL. FIN. OB.'!E11 -> cfr. tabella 2.2.2 AT - ob AT dir | F6: ='2. SCHEDA VAL. FIN. OB.'!F11 -> cfr. tabella 2.2.2 AT - ob AT dir
A7: ='2. SCHEDA VAL. FIN. OB.'!A12 -> 0 | B7: ='2. SCHEDA VAL. FIN. OB.'!B12 -> 0 | C7: ='2. SCHEDA VAL. FIN. OB.'!C12 -> 0 | D7: ='2. SCHEDA VAL. FIN. OB.'!D12 -> 0 | E7: ='2. SCHEDA VAL. FIN. OB.'!E12 -> 0 | F7: ='2. SCHEDA VAL. FIN. OB.'!F12 -> 0
B9: Scheda per l’assegnazione al dirigente, i relativi monitoraggi e la sintesi al 31.12 degli obiettivi di performance organizzativa collegati all’ascolto dell’utenza ed alle conseguenti azioni di miglioramento (il cui conseguimento/coordinamento è attribuito al dirigente medesimo)
A10: ob. N. | B10: finalità | C10: Obiettivo | E10: Indicatore | F10: Target 2023 | G10: I Monitoraggio Indicare i risultati intermedi/stato di avanzamento al 30 giugno | H10: Scostamento | I10: II Monitoraggio Indicare i risultati intermedi/stato di avanzamento al 31 ottobre | J10: Scostamento | K10: Sintesi Indicare i risultati raggiunti al 31 dicembre | L10: Scostamento
A11: 19 | B11: ='2. SCHEDA VAL. FIN. OB.'!B17 -> Strategico - PSA- TRAIETTORIA Semplificazione e Università Agile | C11: ='2. SCHEDA VAL. FIN. OB.'!C17 -> A. analisi delle criticità evidenziatesi nel corso delle diverse indagini già avviate in Ateneo negli anni 2020/2021/2022 per la rilevazione del grado di soddisfazione | E11: ='2. SCHEDA VAL. FIN. OB.'!E17 -> A) % di attuazione, per la parte di competenza | F11: ='2. SCHEDA VAL. FIN. OB.'!F17 -> A) 100%, con invio di una relazione al DG via pec, entro 60 gg dalla ricezione degli esiti delle precedenti indagini da parte dell'ufficio organizzazione e performance
C12: ='2. SCHEDA VAL. FIN. OB.'!C18 -> B. conseguente progettazione e avvio di azioni di miglioramento con riferimento, a specifici servizi | E12: ='2. SCHEDA VAL. FIN. OB.'!E18 -> B) % di attuazione, per la parte di competenza | F12: ='2. SCHEDA VAL. FIN. OB.'!F18 -> B) 100%, con invio - entro il 31.10.2023 - di una relazione al DG, via pec
C13: ='2. SCHEDA VAL. FIN. OB.'!C19 -> C. progettazione e avvio di ulteriori indagini per l’ascolto dell’utenza di Ateneo, con riferimento a specifici servizi | E13: ='2. SCHEDA VAL. FIN. OB.'!E19 -> C) contributo alla progettazione e allo svolgimento delle indagini | F13: ='2. SCHEDA VAL. FIN. OB.'!F19 -> C) sì, per la parte di competenza

Sheet 2. SCHEDA VAL. FIN. OB.
B1: SCHEDA PER LA MISURAZIONE E VALUTAZIONE DEGLI OBIETTIVI ASSEGNATI AL DIRIGENTE (obiettivi organizzativi di struttura assegnati al conseguimento o coordinamento del dirigente, obiettivi trasversali assegnati al coordinamento del dirigente, eventuali ulteriori obiettivi individuali assegnati)
B2: PESO: 35 %*** DELLA RETRIBUZIONE DI RISULTATO COMPLESSIVA
B4: Data:
B5: Soggetto valutatore: Direttore Generale
B6: Nome dirigente valutato: Dott. Alessandro BUTTA'
A8: ob. N. | B8: Finalità | C8: Obiettivo/Azioni | D8: Peso | E8: Indicatore | F8: Target 2023 | G8: Descrizione dei risultati raggiunti al 31 dicembre | H8: Risultato Raggiunto (in %) | I8: Punteggio Autovalutazione* (in %) | K8: Punteggio Valutazione (in %) | L8: Punteggio valutato rispetto al peso dell'obiettivo | M8: Motivazioni del soggetto valutatore **
A9: 4 | B9: Parità di Genere - GEP – Azione n. 6 | C9: Revisione del linguaggio di genere nella comunicazione istituzionale/amministrativa Adozione in Ateneo di un linguaggio inclusivo e rispettoso del genere Revisione della Modulistica amministrativa in ottica di genere | E9: % percentuale di moduli revisionati rispetto ai moduli amministrativi pubblicati sul sito web di Ateneo, nella sezione Modulistica | F9: B) target di Ateneo->50% Per l'Area Affari generali: il target è pari al 100% della modulistica dell'ufficio Archivio | L9: =+K9*D9 -> 0
A10: 5 | B10: Strategico - PSA- TRAIETTORIA Semplificazione e Università Agile Parità di Genere - GEP - Azione 1A - Lavoro Agile | C10: Investire nell’empowerment delle risorse umane e migliorare la qualità dei servizi. Monitoraggio e miglioramento servizi a distanza Contributo per la parte di competenza alle seguenti attività: A) Definizione/aggiornamento del sistema di monitoraggio dei servizi erogati a distanza B) Pubblicazione on line degli standard di qualità C) monitoraggio del grado di soddisfazione dell'utenza in relazione ai servizi a distanza | E10: % di contributo, per la parte di competenza, al raggiugimento dei target di Ateneo, fissati per questo obiettivo nell'appendice 3.2.B del PIAO: SI/NO | F10: 100% del contributo necessario, di seguito riportato: aggiornamento/completamento delle carte dei servizi elencati in nota**** ( i facsimile e l'ulteriore documentazione utile per completare/aggiornare le schede dei servizi sono stati inviati via mail al dirigente da uff.organizzazione@unina.it il 12 maggio 2023) | L10: =+K10*D10 -> 0
A11: 11 | B11: Prevenzione della Corruzione e Trasparenza | C11: Rafforzamento e difesa dei valori etici e dell’integrità nella comunità accademica. Attuazione, per la parte di competenza, delle azioni per la trasparenza e la prevenzione della corruzione, precisato nella tabella 2.2.2 AT: cfr. ob AT dir | E11: cfr. tabella 2.2.2 AT - ob AT dir | F11: cfr. tabella 2.2.2 AT - ob AT dir | L11: =+K11*D11 -> 0
L12: =+K12*D12 -> 0
K13: TOTALE | L13: =SUM(L9:L12) -> 0
B15: obiettivi di performance organizzativa collegati all’ascolto dell’utenza ed alle conseguenti azioni di miglioramento peso complessivo 5%*** della retribuzione di risultato complessiva
A16: ob. N. | B16: Finalità | C16: Obiettivo/Azioni | E16: Indicatore | F16: Target 2023 | G16: Descrizione dei risultati raggiunti al 31 dicembre | H16: Risultato Raggiunto (in %) | I16: Punteggio Autovalutazione* (in %) | K16: Punteggio Valutazione (in %) | L16: Motivazioni del soggetto valutatore **
A17: 19 | B17: Strategico - PSA- TRAIETTORIA Semplificazione e Università Agile | C17: A. analisi delle criticità evidenziatesi nel corso delle diverse indagini già avviate in Ateneo negli anni 2020/2021/2022 per la rilevazione del grado di soddisfazione | E17: A) % di attuazione, per la parte di competenza | F17: A) 100%, con invio di una relazione al DG via pec, entro 60 gg dalla ricezione degli esiti delle precedenti indagini da parte dell'ufficio organizzazione e performance
C18: B. conseguente progettazione e avvio di azioni di miglioramento con riferimento, a specifici servizi | E18: B) % di attuazione, per la parte di competenza | F18: B) 100%, con invio - entro il 31.10.2023 - di una relazione al DG, via pec
C19: C. progettazione e avvio di ulteriori indagini per l’ascolto dell’utenza di Ateneo, con riferimento a specifici servizi | E19: C) contributo alla progettazione e allo svolgimento delle indagini | F19: C) sì, per la parte di competenza
I20: TOTALE | K20: =SUM(K17:K19) -> 0
B23: * Il Punteggio in autovalutazione è pari alla percentuale di raggiungimento del risultato. In caso di scostamento negativo tra la % in autovalutazione e grado di raggiungimento del risultato, il Dirigente dovrà fornire le opportune motivazioni. **In caso di scostamento in positivo o in negativo tra il punteggio di autovalutazione e il punteggio di valutazione relativo a singole voci, il soggetto valutatore dovrà fornire le opportune motivazioni.
B24: *** l’articolazione dei pesi tra le diverse tipologie di obiettivi è fissata nel PIAO, nel rispetto delle previsioni del SMVP: è fissa la percentuale del 5% per gli specifici obiettivi collegati all’ascolto dell’utenza ed alle conseguenti azioni di miglioramento e per gli obiettivi collegati ai miglioramenti di efficienza e di efficacia (obiettivi di continuità); è fissa la percentuale del 45% riguardante gli obiettivi di comportamento organizzativo; gli eventuali obiettivi individuali pesano tra 0 e il 10%; i restanti punti percentuali sono suddivisi tra gli obiettivi strategici di Ateneo e gli obiettivi, anche trasversali, attribuiti alle Aree dell'amministrazione.
B25: ****
B26: Assistenza tecnica per il Tool VQR del catalogo IRIS e consulenza amministrativa sul Bando VQR
B27: Supporto e assistenza tecnica per l'utilizzo del catalogo della ricerca IRIS
B28: Supporto tecnico per l'utilizzo della piattaforma CRUI UNIBAS
B29: CONSULENZA E ASSISTENZA PER SOTTOSCRIZIONE ACCORDI INTERNAZIONALI
B30: CONSULENZA E ASSISTENZA AMMINISTRATIVA, RICEVIMENTO DOCENTI IN MOBILITA' INTERNAZIONALE IN&OUT
B31: CONSULENZA E ASSISTENZA STUDENTI IN MOBILITA' INTERNAZIONALE IN&OUT
B32: Supporto per la fase di presentazione di un progetto di ricerca
B33: Supporto per l'approvazione dei progetti da parte degli organi accademici
B34: Supporto per l'approvazione di un progetto di ricerca (con carattere d'urgenza)
... B39: ISTRUTTORIA PER LA PRESENTAZIONE, AMMISSIONE, MONITORAGGIO E RENDICONTAZIONE DELLE INIZIATIVE RELATIVE AI GRANDI PROGETTI DI ATENEO

Sheet 3. ob. organizzativi di Ateneo
B1: SCHEDA PER LA VALUTAZIONE FINALE DEGLI OBIETTIVI ORGANIZZATIVI di ATENEO
B2: PESO: 10%*** DELLA RETRIBUZIONE DI RISULTATO COMPLESSIVA
B4: Data:
B5: Soggetto valutatore: Direttore Generale
B6: Nome dirigente valutato:
B7: N.B. A cura dell’Ufficio Organizzazione e Performance, il fascicolo di valutazione del dirigente sarà integrato con la presente Scheda, compilata sulla base dei dati acquisiti dalle competenti Strutture di Ateneo
B8: COMPILAZIONE A CURA DELL'UFFICIO ORGANIZZAZIONE E PERFORMANCE
A9: ob. N. | B9: Finalità | C9: Obiettivo/Azioni | D9: Indicatore | E9: Target 2023 | F9: Referente Amministrativo | G9: Descrizione dei risultati raggiunti al 31 dicembre | H9: Risultato Raggiunto (in %)
A10: 1 | B10: Strategico - PSA - OBIETTIVO 1 – Partecipazione - Azione 1.6 OBIETTIVO 2 - Riduzione delle diseguaglianze - Azione 2.3 OBIETTIVO 6 – Ricerca Globale - Azione 6.3 PRO3 - sez. 1, az. C1: Innovare i servizi agli studenti per la riduzione delle disuguaglianze. Miglioramento delle aule e degli spazi di studio PRO3 - sez. 2, az. B3 - Promuovere la ricerca a livello globale | C10: Ampliamento degli spazi destinati alla didattica e alle attività di servizio per gli studenti Integrazione degli interventi per il diritto allo studio e dei servizi per gli studenti con disabilità, anche attraverso azioni di ampliamento e adeguamento delle aule e degli spazi Realizzazione e potenziamento delle infrastrutture a supporto della ricerca anche attraverso accordi di partenariato pubblico – privato e costruzioni di alleanze tra l’Ateneo, altre Università ed Enti Pubblici e privati di ricerca Lavori di ampliamento degli spazi destinati ad attività didattica e di ricerca presso le sedi di San Giovanni e Frullone: Realizzazione di ulteriori spazi destinati ad aule, laboratori e infrastrutture: almeno mq 3.763 ulteriori disponibili per la didattica, almeno mq 897 ulteriori disponibili per la ricerca | D10: Stato di Avanzamento. Al termine del 2024, A) Mq di Spazi ulteriori realizzati, disponibili per la didattica B) Mq di Spazi ulteriori realizzati, destinati ad attività di ricerca (laboratori) | E10: Invio al DG della RELAZIONE A STRUTTURE ULTIMATE: 1) dei cantieri di San Giovanni (Moduli A1-A2) e Frullone entro il 31.12.2023; 2) invio al DG della RELAZIONE A STRUTTURE ULTIMATE del cantiere del Frullone entro il 31.12.2023 Attese le verifiche in corso con il MUR, il DG è autorizzato - all'esito delle stesse - a sottoporre alla firma del Rettore un decreto di rimodulazione dell'obiettivo/azioni | F10: Dirigente dell'Area Edilizia
A11: 2 | B11: Strategico - PSA - OBIETTIVO 6 – Ricerca Globale - Azione 6.1 | C11: Promuovere la qualità e la crescita della Ricerca in Ateneo, attraverso interventi volti a realizzare un circolo dinamico della conoscenza Supporto e valorizzazione delle attività di ricerca di Ateneo con particolare riferimento alla partecipazione a bandi competitivi Rafforzamento del supporto dell’Amministrazione Centrale alle attività di ricerca delle Strutture decentrate Dipartimenti di Eccellenza - Monitoraggio stato di attuazione dei progetti e dell'andamento della spesa | D11: n. report/anno | E11: n. 2 report, al 30.6.2023/31.10.2023, da trasmettere al DG rispettivamente entro il 31.7.2023 e 30.11.2023 | F11: Direttore generale, nonché: Dirigente ad interim dell'Area Ricerca e TM (anche con riferimento ai dati ricevuti dalle Strutture decentrate); Dirigenti dell'Area Attività Contrattuale, Area Edilizia, Area Didattica e Servizi agli Studenti, Area Risorse umane, ciascuno per la parte di competenza
A12: 3 | B12: Strategico - PSA - OBIETTIVO 6 – Ricerca Globale e OBIETTIVO 7 - Engaged University- Azioni 6.1 e 7.4 | C12: Promuovere la qualità e la crescita della Ricerca in Ateneo, attraverso interventi volti a realizzare un circolo dinamico della conoscenza Supporto e valorizzazione delle attività di ricerca di Ateneo con particolare riferimento alla partecipazione a bandi competitivi Partecipazione attiva alle reti pubblico-private, agli ecosistemi dell’innovazione e ai centri nazionali di ricerca in relazione al PNRR Rafforzamento del supporto dell’Amministrazione Centrale alle attività di ricerca delle Strutture decentrate Piano Nazionale di Ripresa e Resilienza - A) Stipula accordi di partenariato B) Monitoraggio stato di attuazione dei progetti e dell'andamento della spesa | D12: A) percentuale di progetti per i quali il CdA approva il testo dell'accordo da stipulare (hub/spoke o spoke/affiliati) B) n. report/anno | E12: A) 90% dei progetti entro il 30.11.2023 B)n. 2 report, al 30.6.2023/31.10.2023, da trasmettere al DG rispettivamente entro il 31.7.2023 e 30.11.2023 | F12: Direttore generale, nonché: Dirigente ad interim dell'Area Ricerca e TM con riferimento ai dati ricevuti dalle Strutture decentrate; Dirigenti dell'Area Attività Contrattuale, Area Edilizia, Area Didattica e Servizi agli Studenti, Area Risorse umane, ciascuno per la parte di competenza
A13: 4 | B13: PRO3 - Sez. 2, azione 2 - Promuovere la ricerca a livello globale - Trasferimento tecnologico e di conoscenze | C13: Promozione e Valorizzazione della Ricerca - Realizzazione di iniziative, eventi ed attività di divulgazione scientifica e di pubblica utilità, anche con interazioni con il mondo della scuola | D13: N. di iniziative/eventi/attività | E13: Almeno 82 | F13: Direttore Generale
A14: 5 | B14: Parità di Genere - GEP – Azione n. 17: Formazione specifica per commissioni di concorso e governance su Unconscious bias | C14: Formazione della comunità universitaria sulle tematiche di genere Realizzazione ed erogazione modulo aggiuntivo su "Unconscious Bias" all'interno del MOOC “Uguaglianza di genere e contrasto alle discriminazioni nelle università” su piattaforma Federica web learning | D14: a) n. iniziative/anno finalizzate alla diffusione del modulo tra i componenti delle Commissioni di concorso b) monitoraggio della fruizione da parte del personale della formazione (modulo aggiuntivo MOOC) prima della conclusione dei lavori della Commissione di concorso di cui fa parte: SI/NO | E14: a) almeno n. 1 b) SI | F14: Direttore Generale (con il supporto del personale del Centro FEDERICA WEB-LEARNING e dell'Ufficio formazione
A15: 6 | B15: Strategico - PSA- TRAIETTORIA Semplificazione e Università Agile Parità di Genere - GEP - Azione 1A - Lavoro Agile | C15: Investire nell’empowerment delle risorse umane Aggiornamento del disciplinare di Ateneo sul lavoro agile, alla luce del nuovo quadro normativo nazionale e delle previsioni del nuovo CCNL | D15: SI/N0 | E15: // (cfr. appendice 3.2.A al presente PIAO) | F15: Direttore generale e Dirigente della Area Risorse umane
A16: 7 | B16: Strategico - PSA- TRAIETTORIA Semplificazione e Università Agile Parità di Genere - GEP - Azione 1A - Lavoro Agile | C16: Investire nell’empowerment delle risorse umane e migliorare la qualità dei servizi. Introdurre ed attuare misure finalizzate ad accrescere il benessere dei lavoratori e delle lavoratrici e la conciliazione dei tempi di vita/lavoro. Contributo, per la parte di competenza, al monitoraggio degli indicatori riportati nella sezione LAVORO AGILE del presente PIAO, anche ai fini dell'elaborazione del PIAO 2024/26 | D16: n. report/anno | E16: almeno 2 | F16: Dirigente dell'Area Organizzazione e Sviluppo - unitamente al CSI di Ateneo - con il contributo di tutti i dirigenti, ciascuno per la parte di competenza
A17: 8 | B17: Strategico - PSA- TRAIETTORIA Semplificazione e Università Agile | C17: Semplificazione dei processi ed accelerazione dei tempi procedimentali. Reingegnerizzazione e digitalizzazione dei processi delle strutture di Ateneo | D17: Percentuale di attuazione - per i ruoli/procedure/esigenze tecnologiche/flussi di competenza - delle azioni di riprogettazione/adeguamento/ridefinizione da realizzare progressivamente nel triennio, individuate - a seguito di confronto con il Direttore generale e i dirigenti d'Area - dai Gruppi di lavoro interdisciplinari nominati dalla governance | E17: 1 | F17: Direttore Generale e Dirigenti
A18: 9 | B18: Strategico - PSA- TRAIETTORIA Semplificazione e Università Agile Parità di Genere - GEP - Azioni 2A e 2B | C18: Promozione richieste congedo parentale da parte dei padri A)Realizzazione/aggiornamento di materiale informativo (brochure/FAQ o video) per diffondere in Ateneo le conoscenze di base, giuridiche e procedurali, per la fruizione dei congedi parentali da parte dei padri; B) realizzazione di statistiche interne annuali di monitoraggio delle richieste di congedi parentali presentate per genere | D18: a) n. iniziative/anno realizzate per diffondere le informazioni sull'utilizzo dei congedi parentali da parte dei padri b) n. report/anno di monitoraggio delle richieste di congedi parentali presentate per genere | E18: A) ≥ 1 B) ≥ 1 | F18: Direttore Generale, con il supporto della Responsabile dell'Ufficio Assenze e Presenze Personale Contrattualizzato (UAPPC)
A19: 10 | B19: arità di Genere - GEP – Azione n. 3: Servizi di Welfare | C19: Iniziative finalizzate ad erogare nuovi servizi di welfare A)Progettazione e realizzazione di nuovi servizi di welfare per il personale di Ateneo B) Monitoraggio del livello di soddisfazione complessiva dei/delle dipendenti di Ateneo e del livello di soddisfazione per genere | D19: A) Stato di avanzamento della progettazione/realizzazione di nuovi servizi di welfare B) n./anno di monitoraggi del livello di soddisfazione complessiva del personale dipendente e del livello di soddisfazione per genere C) % dipendenti complessivamente soddisfatti/e | E19: A) progettazione di nuovi servizi di welfare B) ≥ 1 C) + 5% rispetto al 2022 | F19: Direttore Generale
A20: 11 | B20: Strategico - PSA - TRAIETTORIA Semplificazione e Università Agile | C20: Miglioramento organizzativo - A) Riassetto dell'Amministrazione Centrale. Costituzione ed avvio della funzionalità dei seguenti nuovi uffici: a) Ufficio Segreteria della Prorettrice e Ufficio Supporto ai processi decisionali; b) Ufficio Scatti Stipendiali; c) Ufficio Monitoraggio e Controllo; d) Ufficio di Supporto ai processi di Autovalutazione, Valutazione e Accreditamento e al Presidio di Qualità; e) Ufficio Supporto Legale ai Dipartimenti; f) Ufficio Supporto all’Internazionalizzazione di Ateneo g) Ufficio di Coordinamento PNRR e Dipartimenti di Eccellenza Area Ricerca e Terza Missione h) Ufficio di supporto alle strutture di Ateneo per le procedure di affidamento B) Standardizzazione dei servizi assicurati negli Uffici Dipartimentali, con riferimento alle aree tematiche Contabilità e Bilancio, Supporto per la Didattica, Supporto per la Ricerca: attuazione del nuovo modello organizzativo previsto nel decreto DG/2023/162 del 21/02/2023 | D20: stato di avanzamento | E20: AZIONE A) entro il 31.5.2023: 1. definizione delle competenze dei neoistituiti Uffici; 2. individuazione delle unità di personale tecnico-amministrativo da assegnare ai neoistituiti Uffici nell’ambito delle risorse umane già in carico nell’Area di riferimento ovvero proposta in ordine ai nuovi profili/professionalità da reclutare; 3. formulazione proposta in ordine alle modifiche utili/necessarie a garantire la piena funzionalità dei neoistituiti Uffici; AZIONE B) avvio | F20: AZIONE A) Direttore Generale e, per b) Dirigente Area Risorse Umane per c) Dirigente Area Edilizia per d) Dirigente Area Organizzazione e Sviluppo per e) Dirigente Area Legale, Privacy e Trattamenti Pensionistici per f) e g) Dirigente Area Ricerca e TM per h) Dirigente Area Attività Contrattuale AZIONE B) Direttore Generale
A21: 12 | B21: Strategico - PSA TRAIETTORIE 1-2-3-4 | C21: Contributo al miglioramento del Sistema di Governo e di Assicurazione della Qualità dell’Ateneo | D21: % di attuazione delle azioni di miglioramento raccomandate come prioritarie da NdV/PQA | E21: 1 | F21: Direttore generale e dirigenti
A22: 13 | B22: PSA - Transizione Ecologica Efficientamento energetico (Dieci azioni per il risparmio energetico e l'uso intelligente e razionale dell'energia nella PA-Dipartimento della Funzione Pubblica) | C22: Iniziative, misure e soluzioni organizzative adottate per promuovere/favorire l'uso razionale dell'energia, delle fonti energetiche rinnovabili e delle risorse naturali. A) Realizzazione di punti di erogazione/prelievo di acqua potabile negli edifici universitari. B) Diffusione di indicazioni operative su risparmio ed efficienza energetica in Ufficio C) Formazione specifica del personale | D22: A) n. punti di prelievo realizzati, funzionanti ed aperti alla fruizione B) SI/NO C) Stato di avanzamento | E22: A) almeno n. 30, completi di QR code UNIAQUAM B) SI, con almeno 2 canali di comunicazione C) verifica dell'offerta formativa disponibile, prioritariamente su piattaforme pubbliche e progettazione degli interventi | F22: Dirigente dell'Area Edilizia/Dirigente dell'Area Attività contrattuale/Dirigente dell'Area Organizzazione e Sviluppo
A23: 14 | B23: Strategico - PSA - TRAIETTORIA 3- Semplificazione ed Università Agile OBIETTIVO 4 – Responsabilità e Gestione Sostenibile Azione 4.3 | C23: Definire processi e strumenti per la gestione degli edifici federiciani volti al miglioramento del benessere e della sicurezza Implementazione del Cruscotto di Monitoraggio a supporto dei Piani di miglioramento derivanti dai DVR | D23: a) n. dipartimenti le cui informazioni sono caricate nel cruscotto b) n. dipartimenti per i quali è presente un piano di realizzazione degli interventi | E23: A) n. 3 Dipartimenti sul totale B) n 3. Dipartimenti sul totale | F23: Dirigente dell'Area Prevenzione e Protezione
A24: 15 | B24: Strategico - PSA - TRAIETTORIA 3- Semplificazione ed Università Agile OBIETTIVO 4 – Responsabilità e Gestione Sostenibile - Azione 4.3 | C24: Definire processi e strumenti per la gestione degli edifici federiciani volti al miglioramento del benessere e della sicurezza Implementazione del Piano di audit della sicurezza | D24: % delle UO sottoposte ad analisi con emissione del report | E24: 1 | F24: Dirigente dell'Area Prevenzione e Protezione
B26: *** l’articolazione dei pesi tra le diverse tipologie di obiettivi è fissata nel PIAO, nel rispetto delle previsioni del SMVP: è fissa la percentuale del 5% per gli specifici obiettivi collegati all’ascolto dell’utenza ed alle conseguenti azioni di miglioramento e per gli obiettivi collegati ai miglioramenti di efficienza e di efficacia (obiettivi di continuità); è fissa la percentuale del 45% riguardante gli obiettivi di comportamento organizzativo; gli eventuali obiettivi individuali pesano tra 0 e il 10%; i restanti punti percentuali sono suddivisi tra gli obiettivi strategici di Ateneo e gli obiettivi, anche trasversali, attribuiti alle Aree dell'amministrazione.

Sheet 4. RELAZIONE DI SINTESI
A1: RELAZIONE SINTETICA SUGLI OBIETTIVI OPERATIVI E SUGLI OBIETTIVI CONNESSI A COMPETENZE E COMPORTAMENTI
A11: PARTE PRIMA – OBIETTIVI(ob. organizzativi di struttura e trasversali, nonché eventuali obiettivi individuali)
A12: Per ognuno degli obiettivi operativi assegnati indicare il livello di raggiungimento, le principali attività poste in essere ed i risultati raggiunti.
A14: Max 1,5 pagine
A16: PARTE SECONDA : OBIETTIVI CONNESSI A COMPETENZE E COMPORTAMENTI
A17: Il dirigente è chiamato a soffermarsi in questa parte seconda della relazione (max 1,5 pagine) su aspetti o criticità particolarmente rilevanti affrontate nell’anno nella propria area, rientranti in una o più delle seguenti categorie:
A18: Capacità di raggiungimento degli obiettivi complessivi attribuiti
A19: Orientamento all'utente (esterno e/o interno)
A20: Leadership, Gestione e valorizzazione dei collaboratori
A21: Capacità di valutazione dei propri collaboratori dimostrata tramite una significativa differenziazione dei giudizi
A22: Capacità di programmazione
A23: Problem solving (gestione imprevisti, anticipazione criticità, etc)
... A25: Max 1,5 pagine
